BEGIN:VCALENDAR
VERSION:2.0
PRODID:-//Able Buddies NC - ECPv6.15.16.1//NONSGML v1.0//EN
CALSCALE:GREGORIAN
METHOD:PUBLISH
X-WR-CALNAME:Able Buddies NC
X-ORIGINAL-URL:https://www.ablebuddiesnc.org
X-WR-CALDESC:Events for Able Buddies NC
REFRESH-INTERVAL;VALUE=DURATION:PT1H
X-Robots-Tag:noindex
X-PUBLISHED-TTL:PT1H
BEGIN:VTIMEZONE
TZID:America/New_York
BEGIN:DAYLIGHT
TZOFFSETFROM:-0500
TZOFFSETTO:-0400
TZNAME:EDT
DTSTART:20210314T070000
END:DAYLIGHT
BEGIN:STANDARD
TZOFFSETFROM:-0400
TZOFFSETTO:-0500
TZNAME:EST
DTSTART:20211107T060000
END:STANDARD
BEGIN:DAYLIGHT
TZOFFSETFROM:-0500
TZOFFSETTO:-0400
TZNAME:EDT
DTSTART:20220313T070000
END:DAYLIGHT
BEGIN:STANDARD
TZOFFSETFROM:-0400
TZOFFSETTO:-0500
TZNAME:EST
DTSTART:20221106T060000
END:STANDARD
BEGIN:DAYLIGHT
TZOFFSETFROM:-0500
TZOFFSETTO:-0400
TZNAME:EDT
DTSTART:20230312T070000
END:DAYLIGHT
BEGIN:STANDARD
TZOFFSETFROM:-0400
TZOFFSETTO:-0500
TZNAME:EST
DTSTART:20231105T060000
END:STANDARD
BEGIN:DAYLIGHT
TZOFFSETFROM:-0500
TZOFFSETTO:-0400
TZNAME:EDT
DTSTART:20240310T070000
END:DAYLIGHT
BEGIN:STANDARD
TZOFFSETFROM:-0400
TZOFFSETTO:-0500
TZNAME:EST
DTSTART:20241103T060000
END:STANDARD
BEGIN:DAYLIGHT
TZOFFSETFROM:-0500
TZOFFSETTO:-0400
TZNAME:EDT
DTSTART:20250309T070000
END:DAYLIGHT
BEGIN:STANDARD
TZOFFSETFROM:-0400
TZOFFSETTO:-0500
TZNAME:EST
DTSTART:20251102T060000
END:STANDARD
BEGIN:DAYLIGHT
TZOFFSETFROM:-0500
TZOFFSETTO:-0400
TZNAME:EDT
DTSTART:20260308T070000
END:DAYLIGHT
BEGIN:STANDARD
TZOFFSETFROM:-0400
TZOFFSETTO:-0500
TZNAME:EST
DTSTART:20261101T060000
END:STANDARD
END:VTIMEZONE
BEGIN:VEVENT
DTSTART;TZID=America/New_York:20251219T180000
DTEND;TZID=America/New_York:20251219T200000
DTSTAMP:20260423T103440
CREATED:20240428T205352Z
LAST-MODIFIED:20240428T205352Z
UID:1101-1766167200-1766174400@www.ablebuddiesnc.org
SUMMARY:Able Buddies NC Family and Friends Night
DESCRIPTION:
URL:https://www.ablebuddiesnc.org/upcoming/able-buddies-nc-family-and-friends-night-2-2025-12-19/
LOCATION:Providence Baptist Church\, 406 E. Ocean Road\, Holly Ridge\, NC\, 28445\, United States
CATEGORIES:Community Events,Sensory Friendly Events
END:VEVENT
BEGIN:VEVENT
DTSTART;TZID=America/New_York:20251121T180000
DTEND;TZID=America/New_York:20251121T200000
DTSTAMP:20260423T103440
CREATED:20240428T205352Z
LAST-MODIFIED:20240428T205352Z
UID:1100-1763748000-1763755200@www.ablebuddiesnc.org
SUMMARY:Able Buddies NC Family and Friends Night
DESCRIPTION:
URL:https://www.ablebuddiesnc.org/upcoming/able-buddies-nc-family-and-friends-night-2-2025-11-21/
LOCATION:Providence Baptist Church\, 406 E. Ocean Road\, Holly Ridge\, NC\, 28445\, United States
CATEGORIES:Community Events,Sensory Friendly Events
END:VEVENT
BEGIN:VEVENT
DTSTART;TZID=America/New_York:20251017T180000
DTEND;TZID=America/New_York:20251017T200000
DTSTAMP:20260423T103440
CREATED:20240428T205352Z
LAST-MODIFIED:20240428T205352Z
UID:1099-1760724000-1760731200@www.ablebuddiesnc.org
SUMMARY:Able Buddies NC Family and Friends Night
DESCRIPTION:
URL:https://www.ablebuddiesnc.org/upcoming/able-buddies-nc-family-and-friends-night-2-2025-10-17/
LOCATION:Providence Baptist Church\, 406 E. Ocean Road\, Holly Ridge\, NC\, 28445\, United States
CATEGORIES:Community Events,Sensory Friendly Events
END:VEVENT
BEGIN:VEVENT
DTSTART;TZID=America/New_York:20250919T180000
DTEND;TZID=America/New_York:20250919T200000
DTSTAMP:20260423T103440
CREATED:20240428T205352Z
LAST-MODIFIED:20240428T205352Z
UID:1098-1758304800-1758312000@www.ablebuddiesnc.org
SUMMARY:Able Buddies NC Family and Friends Night
DESCRIPTION:
URL:https://www.ablebuddiesnc.org/upcoming/able-buddies-nc-family-and-friends-night-2-2025-09-19/
LOCATION:Providence Baptist Church\, 406 E. Ocean Road\, Holly Ridge\, NC\, 28445\, United States
CATEGORIES:Community Events,Sensory Friendly Events
END:VEVENT
BEGIN:VEVENT
DTSTART;TZID=America/New_York:20250815T180000
DTEND;TZID=America/New_York:20250815T200000
DTSTAMP:20260423T103440
CREATED:20240428T205352Z
LAST-MODIFIED:20240428T205352Z
UID:1097-1755280800-1755288000@www.ablebuddiesnc.org
SUMMARY:Able Buddies NC Family and Friends Night
DESCRIPTION:
URL:https://www.ablebuddiesnc.org/upcoming/able-buddies-nc-family-and-friends-night-2-2025-08-15/
LOCATION:Providence Baptist Church\, 406 E. Ocean Road\, Holly Ridge\, NC\, 28445\, United States
CATEGORIES:Community Events,Sensory Friendly Events
END:VEVENT
BEGIN:VEVENT
DTSTART;TZID=America/New_York:20250718T180000
DTEND;TZID=America/New_York:20250718T200000
DTSTAMP:20260423T103440
CREATED:20240428T205352Z
LAST-MODIFIED:20240428T205352Z
UID:1096-1752861600-1752868800@www.ablebuddiesnc.org
SUMMARY:Able Buddies NC Family and Friends Night
DESCRIPTION:
URL:https://www.ablebuddiesnc.org/upcoming/able-buddies-nc-family-and-friends-night-2-2025-07-18/
LOCATION:Providence Baptist Church\, 406 E. Ocean Road\, Holly Ridge\, NC\, 28445\, United States
CATEGORIES:Community Events,Sensory Friendly Events
END:VEVENT
BEGIN:VEVENT
DTSTART;TZID=America/New_York:20250620T180000
DTEND;TZID=America/New_York:20250620T200000
DTSTAMP:20260423T103440
CREATED:20240428T205352Z
LAST-MODIFIED:20250511T195654Z
UID:1095-1750442400-1750449600@www.ablebuddiesnc.org
SUMMARY:Able Buddies NC Family and Friends Night PROM at Escoba Bay Clubhouse
DESCRIPTION:Bridgerton Themed Prom (formal dress not required) \n 
URL:https://www.ablebuddiesnc.org/upcoming/able-buddies-nc-family-and-friends-night-2-2025-06-20/
LOCATION:Escoba Bay Clubhouse\, 401 Preakness Ln\, Sneads Ferry\, NC\, 28460\, United States
CATEGORIES:Community Events,Sensory Friendly Events
END:VEVENT
BEGIN:VEVENT
DTSTART;TZID=America/New_York:20250517T120000
DTEND;TZID=America/New_York:20250517T150000
DTSTAMP:20260423T103440
CREATED:20250511T194215Z
LAST-MODIFIED:20250511T194215Z
UID:1112-1747483200-1747494000@www.ablebuddiesnc.org
SUMMARY:Battle of the Badge
DESCRIPTION:Fundraiser hosted by Paradise Axe and Arcade
URL:https://www.ablebuddiesnc.org/upcoming/battle-of-the-badge/
LOCATION:Paradise Axe and Arcade\, 127 Sound Road\, Holly Ridge\, NC\, 28445\, United States
END:VEVENT
BEGIN:VEVENT
DTSTART;TZID=America/New_York:20250516T180000
DTEND;TZID=America/New_York:20250516T200000
DTSTAMP:20260423T103440
CREATED:20240428T205352Z
LAST-MODIFIED:20240428T205352Z
UID:1094-1747418400-1747425600@www.ablebuddiesnc.org
SUMMARY:Able Buddies NC Family and Friends Night
DESCRIPTION:
URL:https://www.ablebuddiesnc.org/upcoming/able-buddies-nc-family-and-friends-night-2-2025-05-16/
LOCATION:Providence Baptist Church\, 406 E. Ocean Road\, Holly Ridge\, NC\, 28445\, United States
CATEGORIES:Community Events,Sensory Friendly Events
END:VEVENT
BEGIN:VEVENT
DTSTART;TZID=America/New_York:20250418T180000
DTEND;TZID=America/New_York:20250418T200000
DTSTAMP:20260423T103440
CREATED:20240428T205352Z
LAST-MODIFIED:20240428T205352Z
UID:1093-1744999200-1745006400@www.ablebuddiesnc.org
SUMMARY:Able Buddies NC Family and Friends Night
DESCRIPTION:
URL:https://www.ablebuddiesnc.org/upcoming/able-buddies-nc-family-and-friends-night-2-2025-04-18/
LOCATION:Providence Baptist Church\, 406 E. Ocean Road\, Holly Ridge\, NC\, 28445\, United States
CATEGORIES:Community Events,Sensory Friendly Events
END:VEVENT
BEGIN:VEVENT
DTSTART;TZID=America/New_York:20250321T180000
DTEND;TZID=America/New_York:20250321T200000
DTSTAMP:20260423T103440
CREATED:20240428T205352Z
LAST-MODIFIED:20240428T205352Z
UID:1092-1742580000-1742587200@www.ablebuddiesnc.org
SUMMARY:Able Buddies NC Family and Friends Night
DESCRIPTION:
URL:https://www.ablebuddiesnc.org/upcoming/able-buddies-nc-family-and-friends-night-2-2025-03-21/
LOCATION:Providence Baptist Church\, 406 E. Ocean Road\, Holly Ridge\, NC\, 28445\, United States
CATEGORIES:Community Events,Sensory Friendly Events
END:VEVENT
BEGIN:VEVENT
DTSTART;TZID=America/New_York:20250221T180000
DTEND;TZID=America/New_York:20250221T200000
DTSTAMP:20260423T103440
CREATED:20240428T205352Z
LAST-MODIFIED:20250511T193749Z
UID:1060-1740160800-1740168000@www.ablebuddiesnc.org
SUMMARY:Able Buddies NC Family and Friends Night
DESCRIPTION:
URL:https://www.ablebuddiesnc.org/upcoming/able-buddies-nc-family-and-friends-night-2-2025-02-21/
LOCATION:Providence Baptist Church\, 406 E. Ocean Road\, Holly Ridge\, NC\, 28445\, United States
CATEGORIES:Community Events,Sensory Friendly Events
END:VEVENT
BEGIN:VEVENT
DTSTART;TZID=America/New_York:20250117T180000
DTEND;TZID=America/New_York:20250117T200000
DTSTAMP:20260423T103440
CREATED:20240428T205352Z
LAST-MODIFIED:20250511T193749Z
UID:1059-1737136800-1737144000@www.ablebuddiesnc.org
SUMMARY:Able Buddies NC Family and Friends Night
DESCRIPTION:
URL:https://www.ablebuddiesnc.org/upcoming/able-buddies-nc-family-and-friends-night-2-2025-01-17/
LOCATION:Providence Baptist Church\, 406 E. Ocean Road\, Holly Ridge\, NC\, 28445\, United States
CATEGORIES:Community Events,Sensory Friendly Events
END:VEVENT
BEGIN:VEVENT
DTSTART;TZID=America/New_York:20241220T180000
DTEND;TZID=America/New_York:20241220T200000
DTSTAMP:20260423T103440
CREATED:20240428T205352Z
LAST-MODIFIED:20250511T193749Z
UID:1058-1734717600-1734724800@www.ablebuddiesnc.org
SUMMARY:Able Buddies NC Family and Friends Night
DESCRIPTION:
URL:https://www.ablebuddiesnc.org/upcoming/able-buddies-nc-family-and-friends-night-2-2024-12-20/
LOCATION:Providence Baptist Church\, 406 E. Ocean Road\, Holly Ridge\, NC\, 28445\, United States
CATEGORIES:Community Events,Sensory Friendly Events
END:VEVENT
BEGIN:VEVENT
DTSTART;TZID=America/New_York:20241115T180000
DTEND;TZID=America/New_York:20241115T200000
DTSTAMP:20260423T103440
CREATED:20240428T205352Z
LAST-MODIFIED:20250511T193749Z
UID:1057-1731693600-1731700800@www.ablebuddiesnc.org
SUMMARY:Able Buddies NC Family and Friends Night
DESCRIPTION:
URL:https://www.ablebuddiesnc.org/upcoming/able-buddies-nc-family-and-friends-night-2-2024-11-15/
LOCATION:Providence Baptist Church\, 406 E. Ocean Road\, Holly Ridge\, NC\, 28445\, United States
CATEGORIES:Community Events,Sensory Friendly Events
END:VEVENT
BEGIN:VEVENT
DTSTART;TZID=America/New_York:20241018T180000
DTEND;TZID=America/New_York:20241018T200000
DTSTAMP:20260423T103440
CREATED:20240428T205352Z
LAST-MODIFIED:20250511T193749Z
UID:1056-1729274400-1729281600@www.ablebuddiesnc.org
SUMMARY:Able Buddies NC Family and Friends Night
DESCRIPTION:
URL:https://www.ablebuddiesnc.org/upcoming/able-buddies-nc-family-and-friends-night-2-2024-10-18/
LOCATION:Providence Baptist Church\, 406 E. Ocean Road\, Holly Ridge\, NC\, 28445\, United States
CATEGORIES:Community Events,Sensory Friendly Events
END:VEVENT
BEGIN:VEVENT
DTSTART;TZID=America/New_York:20240920T180000
DTEND;TZID=America/New_York:20240920T200000
DTSTAMP:20260423T103440
CREATED:20240428T205352Z
LAST-MODIFIED:20250511T193749Z
UID:1055-1726855200-1726862400@www.ablebuddiesnc.org
SUMMARY:Able Buddies NC Family and Friends Night
DESCRIPTION:
URL:https://www.ablebuddiesnc.org/upcoming/able-buddies-nc-family-and-friends-night-2-2024-09-20/
LOCATION:Providence Baptist Church\, 406 E. Ocean Road\, Holly Ridge\, NC\, 28445\, United States
CATEGORIES:Community Events,Sensory Friendly Events
END:VEVENT
BEGIN:VEVENT
DTSTART;TZID=America/New_York:20240816T180000
DTEND;TZID=America/New_York:20240816T200000
DTSTAMP:20260423T103440
CREATED:20240428T205352Z
LAST-MODIFIED:20250511T193749Z
UID:1054-1723831200-1723838400@www.ablebuddiesnc.org
SUMMARY:Able Buddies NC Family and Friends Night
DESCRIPTION:
URL:https://www.ablebuddiesnc.org/upcoming/able-buddies-nc-family-and-friends-night-2-2024-08-16/
LOCATION:Providence Baptist Church\, 406 E. Ocean Road\, Holly Ridge\, NC\, 28445\, United States
CATEGORIES:Community Events,Sensory Friendly Events
END:VEVENT
BEGIN:VEVENT
DTSTART;TZID=America/New_York:20240719T180000
DTEND;TZID=America/New_York:20240719T200000
DTSTAMP:20260423T103440
CREATED:20240428T205352Z
LAST-MODIFIED:20250511T193749Z
UID:1053-1721412000-1721419200@www.ablebuddiesnc.org
SUMMARY:Able Buddies NC Family and Friends Night
DESCRIPTION:
URL:https://www.ablebuddiesnc.org/upcoming/able-buddies-nc-family-and-friends-night-2-2024-07-19/
LOCATION:Providence Baptist Church\, 406 E. Ocean Road\, Holly Ridge\, NC\, 28445\, United States
CATEGORIES:Community Events,Sensory Friendly Events
END:VEVENT
BEGIN:VEVENT
DTSTART;TZID=America/New_York:20240621T180000
DTEND;TZID=America/New_York:20240621T200000
DTSTAMP:20260423T103440
CREATED:20240428T205352Z
LAST-MODIFIED:20250511T193749Z
UID:1052-1718992800-1719000000@www.ablebuddiesnc.org
SUMMARY:Able Buddies NC Family and Friends Night
DESCRIPTION:
URL:https://www.ablebuddiesnc.org/upcoming/able-buddies-nc-family-and-friends-night-2-2024-06-21/
LOCATION:Providence Baptist Church\, 406 E. Ocean Road\, Holly Ridge\, NC\, 28445\, United States
CATEGORIES:Community Events,Sensory Friendly Events
END:VEVENT
BEGIN:VEVENT
DTSTART;TZID=America/New_York:20240517T180000
DTEND;TZID=America/New_York:20240517T200000
DTSTAMP:20260423T103440
CREATED:20240428T205352Z
LAST-MODIFIED:20250511T193749Z
UID:1051-1715968800-1715976000@www.ablebuddiesnc.org
SUMMARY:Able Buddies NC Family and Friends Night
DESCRIPTION:
URL:https://www.ablebuddiesnc.org/upcoming/able-buddies-nc-family-and-friends-night-2-2024-05-17/
LOCATION:Providence Baptist Church\, 406 E. Ocean Road\, Holly Ridge\, NC\, 28445\, United States
CATEGORIES:Community Events,Sensory Friendly Events
END:VEVENT
BEGIN:VEVENT
DTSTART;TZID=America/New_York:20240509T080000
DTEND;TZID=America/New_York:20240509T170000
DTSTAMP:20260423T103440
CREATED:20240428T210713Z
LAST-MODIFIED:20240428T210713Z
UID:1063-1715241600-1715274000@www.ablebuddiesnc.org
SUMMARY:GoodTimes Dance
DESCRIPTION:
URL:https://www.ablebuddiesnc.org/upcoming/goodtimes-dance/
LOCATION:Onslow\, Pender\, United States
END:VEVENT
BEGIN:VEVENT
DTSTART;TZID=America/New_York:20240504T100000
DTEND;TZID=America/New_York:20240504T150000
DTSTAMP:20260423T103440
CREATED:20240428T203945Z
LAST-MODIFIED:20240428T203945Z
UID:1048-1714816800-1714834800@www.ablebuddiesnc.org
SUMMARY:Able Buddies NC Mother's Day Vendor Fair
DESCRIPTION:
URL:https://www.ablebuddiesnc.org/upcoming/able-buddies-nc-mothers-day-vendor-fair/
LOCATION:Holly Ridge Fire and Rescue\, 109 Holly Street\, Holly Ridge\, NC\, 28445\, United States
CATEGORIES:Community Events,Sensory Friendly Events
END:VEVENT
BEGIN:VEVENT
DTSTART;TZID=America/New_York:20240428T180000
DTEND;TZID=America/New_York:20240428T200000
DTSTAMP:20260423T103440
CREATED:20240428T205352Z
LAST-MODIFIED:20250511T193746Z
UID:1050-1714327200-1714334400@www.ablebuddiesnc.org
SUMMARY:Able Buddies NC Family and Friends Night
DESCRIPTION:
URL:https://www.ablebuddiesnc.org/upcoming/able-buddies-nc-family-and-friends-night-2/
LOCATION:Providence Baptist Church\, 406 E. Ocean Road\, Holly Ridge\, NC\, 28445\, United States
CATEGORIES:Community Events,Sensory Friendly Events
END:VEVENT
BEGIN:VEVENT
DTSTART;TZID=America/New_York:20240101T100000
DTEND;TZID=America/New_York:20240101T120000
DTSTAMP:20260423T103440
CREATED:20231122T233239Z
LAST-MODIFIED:20231122T233239Z
UID:1031-1704103200-1704110400@www.ablebuddiesnc.org
SUMMARY:Shrimp Dip 2024
DESCRIPTION:Big news: SHIRT ART and RESERVATION FORM!\n\n\nShiverz T. Shrimp snuck his way onto the North Topsail Beach welcome sign for the 2024 Shrimp Dip shirt! Shirt color this year is ORANGE\, to complement Shiverz’s lovely complexion. Shirts are $20. We can accept cash\, check\, or credit card at the dip. Sales will open at 10am. If you would like to GUARANTEE that we have shirts in your sizes\, use this form to reserve your shirts (size and quantity). Reserved shirts MUST be picked up & purchased by 11:30am at the Dip. Any reserved shirts not picked up by 11:30am will be released for general sale. Thanks to our shirt sponsors\, 100% of shirt sales will go directly to Able Buddies NC Special Needs Community of Onslow and Pender Counties – Able Buddies NC.
URL:https://www.ablebuddiesnc.org/upcoming/shrimp-dip-2024/
LOCATION:North Topsail Beach BA #31\, 4030 Island Drive\, North Topsail Beach\, NC\, 28460\, United States
CATEGORIES:Community Events,Sensory Friendly Events
ATTACH;FMTTYPE=image/jpeg:https://www.ablebuddiesnc.org/abnc/wp-content/uploads/shrimp-dip2.jpg
END:VEVENT
BEGIN:VEVENT
DTSTART;TZID=America/New_York:20231206T173000
DTEND;TZID=America/New_York:20231206T200000
DTSTAMP:20260423T103440
CREATED:20231122T232251Z
LAST-MODIFIED:20231122T232251Z
UID:1024-1701883800-1701892800@www.ablebuddiesnc.org
SUMMARY:Ferry Tales Youth Theater Presents - The Best Christmas Pageant Ever- The Musical
DESCRIPTION:Join Able Buddies NC for a special presentation of The Best Christmas Pageant Ever by The Ferry Tales Youth Theater. \nWe have a special invitation to attend a “run-through” of this performance. \n  \nIf you are interested in joining us\, please let Aileen Green know\, at 910-382-2989 \n 
URL:https://www.ablebuddiesnc.org/upcoming/ferry-tales-youth-theater-presents-the-best-christmas-pageant-ever-the-musical/
LOCATION:Sneads Ferry Community Center\, 126 Park LAne\, Sneads Ferry\, NC 28460\, 126 Park Lane\, Sneads Ferry\, NC\, 28460\, United States
END:VEVENT
BEGIN:VEVENT
DTSTART;TZID=America/New_York:20231127T110000
DTEND;TZID=America/New_York:20231127T200000
DTSTAMP:20260423T103440
CREATED:20231122T234046Z
LAST-MODIFIED:20231122T234224Z
UID:1035-1701082800-1701115200@www.ablebuddiesnc.org
SUMMARY:Red Robin Fundraiser
DESCRIPTION:
URL:https://www.ablebuddiesnc.org/upcoming/red-robin-fund-raiser/
LOCATION:Red Robin\, 375 Western Blvd\, Jacksonville\, NC\, 28546\, United States
CATEGORIES:Community Events
ATTACH;FMTTYPE=image/png:https://www.ablebuddiesnc.org/abnc/wp-content/uploads/fundraiser-flyer.png
END:VEVENT
BEGIN:VEVENT
DTSTART;TZID=America/New_York:20221014T180000
DTEND;TZID=America/New_York:20221014T200000
DTSTAMP:20260423T103440
CREATED:20220912T235933Z
LAST-MODIFIED:20220912T235933Z
UID:968-1665770400-1665777600@www.ablebuddiesnc.org
SUMMARY:Good Times Dance
DESCRIPTION:
URL:https://www.ablebuddiesnc.org/upcoming/good-times-dance-3/
LOCATION:First Christian Church-Fellowship Hall\, 900 Gum Branch Road\, Jacksonville\, NC\, United States
CATEGORIES:Community Events,Sensory Friendly Events
ATTACH;FMTTYPE=image/jpeg:https://www.ablebuddiesnc.org/abnc/wp-content/uploads/Good-Times.jpg
END:VEVENT
BEGIN:VEVENT
DTSTART;TZID=America/New_York:20221001T100000
DTEND;TZID=America/New_York:20221001T120000
DTSTAMP:20260423T103440
CREATED:20220922T010155Z
LAST-MODIFIED:20220922T010155Z
UID:998-1664618400-1664625600@www.ablebuddiesnc.org
SUMMARY:HAIRCUTS AND HAYRIDES
DESCRIPTION:If your child struggles with getting as haircut\, how do you think they’d do in a soothing atmosphere like Old McFaye’s farm in Castle Hayne.\n\n\nOn Saturday October 1st we will be holding our second ever Haircuts and Hayrides from 10am to 12pm.\n\n\nWe are only able to do this because of the wonderful stylist who have volunteered their time.\n\n\nSpace is very limited. Only people who call our Community Outreach Director Doug Wahl (at 910 524-9336.) will be able to reserve a spot
URL:https://www.ablebuddiesnc.org/upcoming/haircuts-and-hayrides/
LOCATION:Onslow\, Pender\, United States
END:VEVENT
BEGIN:VEVENT
DTSTART;TZID=America/New_York:20220925T153000
DTEND;TZID=America/New_York:20220925T170000
DTSTAMP:20260423T103440
CREATED:20220912T234432Z
LAST-MODIFIED:20220913T005638Z
UID:940-1664119800-1664125200@www.ablebuddiesnc.org
SUMMARY:Aktion Club Meeting
DESCRIPTION:Aktion Club where development has no disability\nAktion Club is the only service club for adults with disabilities\, with more than 10\,000 members worldwide. Club members become competent\, capable\, caring leaders through the vehicle of service. \n 
URL:https://www.ablebuddiesnc.org/upcoming/aktion-club-meeting/
LOCATION:Holly Ridge Community Center\, 404 Sound Rd\, Holly Ridge 28445\, NC\, 28445\, United States
CATEGORIES:Community Events,Meetings
ATTACH;FMTTYPE=image/jpeg:https://www.ablebuddiesnc.org/abnc/wp-content/uploads/Aktion-Club.jpg
END:VEVENT
END:VCALENDAR