BEGIN:VCALENDAR
VERSION:2.0
PRODID:-//Able Buddies NC - ECPv6.15.16.1//NONSGML v1.0//EN
CALSCALE:GREGORIAN
METHOD:PUBLISH
X-ORIGINAL-URL:https://www.ablebuddiesnc.org
X-WR-CALDESC:Events for Able Buddies NC
REFRESH-INTERVAL;VALUE=DURATION:PT1H
X-Robots-Tag:noindex
X-PUBLISHED-TTL:PT1H
BEGIN:VTIMEZONE
TZID:America/New_York
BEGIN:DAYLIGHT
TZOFFSETFROM:-0500
TZOFFSETTO:-0400
TZNAME:EDT
DTSTART:20180311T070000
END:DAYLIGHT
BEGIN:STANDARD
TZOFFSETFROM:-0400
TZOFFSETTO:-0500
TZNAME:EST
DTSTART:20181104T060000
END:STANDARD
BEGIN:DAYLIGHT
TZOFFSETFROM:-0500
TZOFFSETTO:-0400
TZNAME:EDT
DTSTART:20190310T070000
END:DAYLIGHT
BEGIN:STANDARD
TZOFFSETFROM:-0400
TZOFFSETTO:-0500
TZNAME:EST
DTSTART:20191103T060000
END:STANDARD
BEGIN:DAYLIGHT
TZOFFSETFROM:-0500
TZOFFSETTO:-0400
TZNAME:EDT
DTSTART:20200308T070000
END:DAYLIGHT
BEGIN:STANDARD
TZOFFSETFROM:-0400
TZOFFSETTO:-0500
TZNAME:EST
DTSTART:20201101T060000
END:STANDARD
END:VTIMEZONE
BEGIN:VEVENT
DTSTART;TZID=America/New_York:20190210T090000
DTEND;TZID=America/New_York:20190210T170000
DTSTAMP:20260423T204852
CREATED:20190201T002850Z
LAST-MODIFIED:20190201T002850Z
UID:678-1549789200-1549818000@www.ablebuddiesnc.org
SUMMARY:NC Aquarium at Pine Knoll Shores-Autism Friendly Day!
DESCRIPTION:  \n\n\n\nJoin us for our second Autism Friendly Day! \nThis will be a day of discovery designed for children and adults living with autism and their families. \nExplore the Aquarium using your senses. Activities will include nature walks (weather permitting)\, live animal programs\, a sensory exploration room\, “quiet” dive program\, calm space for families\, guest guide passports\, and local autism support organizations. Space is limited for our nature walk and live animal programs. Families will be able to register for the nature walks and live animal programs on the day of this event. Free with Aquarium admission.  (Fun Fact: The 36-foot tall smoky mountain waterfall will be turned off during this special day!)
URL:https://www.ablebuddiesnc.org/upcoming/nc-aquarium-at-pine-knoll-shores-autism-friendly-day/
LOCATION:NC Aquarium at Pine Knoll Shores\, 1 Roosevelt Blvd\, Pine Knoll Shores\, NC
CATEGORIES:Community Events,Sensory Friendly Events
ATTACH;FMTTYPE=image/jpeg:https://www.ablebuddiesnc.org/abnc/wp-content/uploads/Pine-Knoll.jpg
END:VEVENT
BEGIN:VEVENT
DTSTART;TZID=America/New_York:20190202T090000
DTEND;TZID=America/New_York:20190202T110000
DTSTAMP:20260423T204852
CREATED:20190130T011315Z
LAST-MODIFIED:20190130T011315Z
UID:672-1549098000-1549105200@www.ablebuddiesnc.org
SUMMARY:Sensory Saturday!
DESCRIPTION:The NC Maritime Museum at Southport now has Sensory Saturday! \nThis program is the first Saturday of every month. \nIt has dimmed lights\, no audio turned on and a special activity.
URL:https://www.ablebuddiesnc.org/upcoming/sensory-saturday-2/
LOCATION:NC Maritime Museum\, 204 E Moore St\, Southport\, NC\, 28461\, United States
CATEGORIES:Community Events,Sensory Friendly Events
ATTACH;FMTTYPE=image/jpeg:https://www.ablebuddiesnc.org/abnc/wp-content/uploads/maritime-feb.jpg
END:VEVENT
END:VCALENDAR