BEGIN:VCALENDAR
VERSION:2.0
PRODID:-//Able Buddies NC - ECPv6.15.16.1//NONSGML v1.0//EN
CALSCALE:GREGORIAN
METHOD:PUBLISH
X-ORIGINAL-URL:https://www.ablebuddiesnc.org
X-WR-CALDESC:Events for Able Buddies NC
REFRESH-INTERVAL;VALUE=DURATION:PT1H
X-Robots-Tag:noindex
X-PUBLISHED-TTL:PT1H
BEGIN:VTIMEZONE
TZID:UTC
BEGIN:STANDARD
TZOFFSETFROM:+0000
TZOFFSETTO:+0000
TZNAME:UTC
DTSTART:20170101T000000
END:STANDARD
END:VTIMEZONE
BEGIN:VTIMEZONE
TZID:America/Halifax
BEGIN:DAYLIGHT
TZOFFSETFROM:-0400
TZOFFSETTO:-0300
TZNAME:ADT
DTSTART:20160313T060000
END:DAYLIGHT
BEGIN:STANDARD
TZOFFSETFROM:-0300
TZOFFSETTO:-0400
TZNAME:AST
DTSTART:20161106T050000
END:STANDARD
BEGIN:DAYLIGHT
TZOFFSETFROM:-0400
TZOFFSETTO:-0300
TZNAME:ADT
DTSTART:20170312T060000
END:DAYLIGHT
BEGIN:STANDARD
TZOFFSETFROM:-0300
TZOFFSETTO:-0400
TZNAME:AST
DTSTART:20171105T050000
END:STANDARD
BEGIN:DAYLIGHT
TZOFFSETFROM:-0400
TZOFFSETTO:-0300
TZNAME:ADT
DTSTART:20180311T060000
END:DAYLIGHT
BEGIN:STANDARD
TZOFFSETFROM:-0300
TZOFFSETTO:-0400
TZNAME:AST
DTSTART:20181104T050000
END:STANDARD
BEGIN:DAYLIGHT
TZOFFSETFROM:-0400
TZOFFSETTO:-0300
TZNAME:ADT
DTSTART:20190310T060000
END:DAYLIGHT
BEGIN:STANDARD
TZOFFSETFROM:-0300
TZOFFSETTO:-0400
TZNAME:AST
DTSTART:20191103T050000
END:STANDARD
END:VTIMEZONE
BEGIN:VEVENT
DTSTART;TZID=UTC:20180518T180000
DTEND;TZID=UTC:20180518T210000
DTSTAMP:20260424T001444
CREATED:20171218T005315Z
LAST-MODIFIED:20180430T001339Z
UID:377-1526666400-1526677200@www.ablebuddiesnc.org
SUMMARY:Special Needs Prom!
DESCRIPTION:Please join us on May 18th for a FREE special needs dance.  Our theme this month is PROM!
URL:https://www.ablebuddiesnc.org/upcoming/special-needs-monthly-dance-2018-05-18/
LOCATION:Providence Baptist Church\, 406 E. Ocean Road\, Holly Ridge\, NC\, 28445\, United States
CATEGORIES:Community Events
ATTACH;FMTTYPE=image/jpeg:https://www.ablebuddiesnc.org/abnc/wp-content/uploads/I-Dance-Flyer-May-2018.jpg
END:VEVENT
BEGIN:VEVENT
DTSTART;TZID=UTC:20180512T080000
DTEND;TZID=UTC:20180512T170000
DTSTAMP:20260424T001444
CREATED:20180430T014825Z
LAST-MODIFIED:20180430T014825Z
UID:497-1526112000-1526144400@www.ablebuddiesnc.org
SUMMARY:Crystal Coast run/Walk for Autism
DESCRIPTION:Join us for the 8th annual Crystal Coast Run/Walk for Autism on Saturday\, May 12\, along the Beaufort waterfront! \nAs many as 1 in 59 children may be diagnosed with autism in North Carolina. You can make a difference in the lives of children with autism and their families by registering for the Crystal Coast Run/Walk for Autism. Registration is $25 for the 5K or the walk\, but you can make an even bigger impact by recruiting family members\, friends\, and co-workers to form a team and raise donations — now is the time to start! \nProceeds from the Crystal Coast Run/Walk for Autism will fund local programs of the Autism Society of North Carolina\, the leading statewide resource organization serving the over 65\,000 people in NC across the spectrum throughout their lifespans. Participation in this event has helped ASNC to open a Social Recreation Center in Newport that offers summer day camps\, afterschool care\, and adult programs. \nEveryone knows someone affected by autism — maybe your brother\, cousin\, friend at school\, neighbor\, or co-worker. Join others on May 12 to make a difference in the life of someone you care about with Autism Spectrum Disorder. You can help! \nThe Crystal Coast Run/Walk for Autism will have something for everyone! Join us for the 5K competitive race\, the awareness walk\, or the kids’ dash. Come be a part of our community for this fun day! \nIf you have questions\, please email us or call 800-442-2762\, ext. 1101.
URL:https://www.ablebuddiesnc.org/upcoming/crystal-coast-run-walk-for-autism/
LOCATION:NC
CATEGORIES:Community Events
ATTACH;FMTTYPE=image/jpeg:https://www.ablebuddiesnc.org/abnc/wp-content/uploads/Walk-for-autism.jpg
END:VEVENT
BEGIN:VEVENT
DTSTART;TZID=UTC:20180505T170000
DTEND;TZID=UTC:20180505T190000
DTSTAMP:20260424T001444
CREATED:20180430T003404Z
LAST-MODIFIED:20180430T003404Z
UID:489-1525539600-1525546800@www.ablebuddiesnc.org
SUMMARY:Super Hero and Princess Skate Party
DESCRIPTION:Calling all Super Heroes and Princesses! Time to dress up and Roll-Out and Party!! Join us for some glow in the dark fun while skating to rock n’ roll hit tunes through the decades.This event is open to family members\, friends\, caregivers and individuals with autism and special needs.Walkers\, strollers\, wheel chairs welcome. Assistive devices and non-roll skates available. Lighting and music levels adjusted and no strobe lights used. Snacks\, Door prizes and games provided. 3.00 per person or donation at the door. You must Register at the link listed in order to attend.
URL:https://www.ablebuddiesnc.org/upcoming/super-hero-and-princess-skate-party/
LOCATION:Rollerland\, 3502 Neuse Blvd\, New Bern\, NC\, 28560
CATEGORIES:Community Events
ATTACH;FMTTYPE=image/jpeg:https://www.ablebuddiesnc.org/abnc/wp-content/uploads/Princess-Superhero.jpg
END:VEVENT
BEGIN:VEVENT
DTSTART;TZID=UTC:20180428T080000
DTEND;TZID=UTC:20180428T110000
DTSTAMP:20260424T001444
CREATED:20180305T020511Z
LAST-MODIFIED:20180305T020512Z
UID:465-1524902400-1524913200@www.ablebuddiesnc.org
SUMMARY:Coastal NC Run/Walk for Autism
DESCRIPTION:
URL:https://www.ablebuddiesnc.org/upcoming/coastal-nc-run-walk-for-autism/
LOCATION:Mayfaire Town Centre\, Wilmington\, NC\, United States
CATEGORIES:Community Events
ATTACH;FMTTYPE=image/jpeg:https://www.ablebuddiesnc.org/abnc/wp-content/uploads/Coastal-NC-Run.jpg
END:VEVENT
BEGIN:VEVENT
DTSTART;TZID=UTC:20180420T180000
DTEND;TZID=UTC:20180420T210000
DTSTAMP:20260424T001444
CREATED:20171218T005315Z
LAST-MODIFIED:20180330T053731Z
UID:376-1524247200-1524258000@www.ablebuddiesnc.org
SUMMARY:Special Needs Monthly Dance
DESCRIPTION:Get ready Princesses\, Superheroes\, Storm Troopers\, Minions and costumed characters… our April 20th dance will be Character Costume Themed!
URL:https://www.ablebuddiesnc.org/upcoming/special-needs-monthly-dance-2018-04-20/
LOCATION:Providence Baptist Church\, 406 E. Ocean Road\, Holly Ridge\, NC\, 28445\, United States
CATEGORIES:Community Events
ATTACH;FMTTYPE=image/jpeg:https://www.ablebuddiesnc.org/abnc/wp-content/uploads/I-Dance-Flyer-April-2018.jpg
END:VEVENT
BEGIN:VEVENT
DTSTART;TZID=UTC:20180407T100000
DTEND;TZID=UTC:20180407T140000
DTSTAMP:20260424T001444
CREATED:20180305T020047Z
LAST-MODIFIED:20180305T020048Z
UID:462-1523095200-1523109600@www.ablebuddiesnc.org
SUMMARY:Holly Ridge Spring Expo
DESCRIPTION:
URL:https://www.ablebuddiesnc.org/upcoming/holly-ridge-spring-expo/
LOCATION:Holly Ridge Fire and Rescue\, 109 Holly Street\, Holly Ridge\, NC\, 28445\, United States
CATEGORIES:Community Events
ATTACH;FMTTYPE=image/jpeg:https://www.ablebuddiesnc.org/abnc/wp-content/uploads/HR-Spring-expo.jpg
END:VEVENT
BEGIN:VEVENT
DTSTART;TZID=UTC:20180331T130000
DTEND;TZID=UTC:20180331T150000
DTSTAMP:20260424T001444
CREATED:20180305T012635Z
LAST-MODIFIED:20180305T012635Z
UID:452-1522501200-1522508400@www.ablebuddiesnc.org
SUMMARY:Special Needs Easter Egg Hunt
DESCRIPTION:RSVP to wonderfullymadeinfo@gmail.com
URL:https://www.ablebuddiesnc.org/upcoming/special-needs-easter-egg-hunt/
LOCATION:Hubert By-Pass Park\, 220 Hubert Blvd\, Hubert\, NC\, 28539
CATEGORIES:Community Events
ATTACH;FMTTYPE=image/jpeg:https://www.ablebuddiesnc.org/abnc/wp-content/uploads/28276963_2035191293362565_9081274862931310275_n.jpg
END:VEVENT
BEGIN:VEVENT
DTSTART;VALUE=DATE:20180321
DTEND;VALUE=DATE:20180322
DTSTAMP:20260424T001444
CREATED:20180305T012149Z
LAST-MODIFIED:20180305T012149Z
UID:451-1521590400-1521676799@www.ablebuddiesnc.org
SUMMARY:Rock Your Socks for World Down Syndrome Day!
DESCRIPTION:
URL:https://www.ablebuddiesnc.org/upcoming/rock-your-socks-for-world-down-syndrome-day/
LOCATION:NC
CATEGORIES:Community Events
ATTACH;FMTTYPE=image/jpeg:https://www.ablebuddiesnc.org/abnc/wp-content/uploads/28379489_727817934095067_4867993952449376392_n.jpg
END:VEVENT
BEGIN:VEVENT
DTSTART;TZID=UTC:20180317T090000
DTEND;TZID=UTC:20180317T120000
DTSTAMP:20260424T001444
CREATED:20180204T225433Z
LAST-MODIFIED:20180204T230506Z
UID:429-1521277200-1521288000@www.ablebuddiesnc.org
SUMMARY:2018 Polar Plunge
DESCRIPTION:Registration & Check-in will run from 9:30 am and run till 10:30am.\nAll donations will remain local and benefit Special Olympics Onslow County.
URL:https://www.ablebuddiesnc.org/upcoming/2018-polar-plunge/
LOCATION:North Topsail Beach\, 2950 Island Drive\, North Topsail Beach\, NC\, 28445
CATEGORIES:Community Events
ATTACH;FMTTYPE=image/jpeg:https://www.ablebuddiesnc.org/abnc/wp-content/uploads/polar-plunge.jpg
END:VEVENT
BEGIN:VEVENT
DTSTART;TZID=UTC:20180316T180000
DTEND;TZID=UTC:20180316T210000
DTSTAMP:20260424T001444
CREATED:20171218T005315Z
LAST-MODIFIED:20180305T010922Z
UID:375-1521223200-1521234000@www.ablebuddiesnc.org
SUMMARY:Special Needs Monthly Dance
DESCRIPTION:Please join us on the 3rd Friday of each month for a FREE special needs dance.  Our themes change each month\, so be sure to check back for updates!
URL:https://www.ablebuddiesnc.org/upcoming/special-needs-monthly-dance/
LOCATION:Providence Baptist Church\, 406 E. Ocean Road\, Holly Ridge\, NC\, 28445\, United States
CATEGORIES:Community Events
ATTACH;FMTTYPE=image/jpeg:https://www.ablebuddiesnc.org/abnc/wp-content/uploads/I-Dance-Flyer-March-2018.jpg
END:VEVENT
BEGIN:VEVENT
DTSTART;TZID=UTC:20180310T100000
DTEND;TZID=UTC:20180310T140000
DTSTAMP:20260424T001444
CREATED:20180305T013300Z
LAST-MODIFIED:20180305T013329Z
UID:454-1520676000-1520690400@www.ablebuddiesnc.org
SUMMARY:Sensitive Easter Bunny
DESCRIPTION:Email Today for an Appointment Ocpd.onslow@gmail.com
URL:https://www.ablebuddiesnc.org/upcoming/sensitive-easter-bunny/
LOCATION:Methodist Home for Children\, 1208 Henderson Drive\, Jacksonville\, NC
CATEGORIES:Community Events
ATTACH;FMTTYPE=image/jpeg:https://www.ablebuddiesnc.org/abnc/wp-content/uploads/28055963_786083061561962_1253717321733473010_n.jpg
END:VEVENT
BEGIN:VEVENT
DTSTART;TZID=UTC:20180303T090000
DTEND;TZID=UTC:20180303T120000
DTSTAMP:20260424T001444
CREATED:20180115T024530Z
LAST-MODIFIED:20180115T025516Z
UID:416-1520067600-1520078400@www.ablebuddiesnc.org
SUMMARY:Ainsley's Angels 4th Annual Run With Your Heart
DESCRIPTION:The Ainsley’s Angels Race Series 4th Annual Run With Your Heart 5K/10K/15K hosted by Ainsley’s Angels of Eastern Carolina! This event has something for everyone! 3 different distances to choose from plus an incredibly fun resource fair at the finish! \nThe route will begin and end at the beautiful Riverwalk Crossing Park and take you through historic downtown Jacksonville\, North Carolina! If you don’t live within driving distance of the Eastern North Carolina area\, don’t worry…there is a VIRTUAL option available as well! \nComing from out of town? Call Staybridge Suites North Jacksonville at 910-353-2513\, 110 Cobia Ct Jacksonville NC 28546. Make sure to mention “Ainsley’s Angels” when you call to get our special room rate of $89.00. Accessible rooms available!
URL:https://www.ablebuddiesnc.org/upcoming/ainsleys-angels-4th-annual-run-with-your-heart/
LOCATION:Riverwalk Crossing Park\, Jacksonville\, NC\, 28540
CATEGORIES:Community Events
ATTACH;FMTTYPE=image/jpeg:https://www.ablebuddiesnc.org/abnc/wp-content/uploads/Ainsleys-Angels.jpg
END:VEVENT
BEGIN:VEVENT
DTSTART;TZID=UTC:20180219T183000
DTEND;TZID=UTC:20180219T193000
DTSTAMP:20260424T001444
CREATED:20180114T074843Z
LAST-MODIFIED:20180114T074843Z
UID:408-1519065000-1519068600@www.ablebuddiesnc.org
SUMMARY:Fellowship Night: Therapeutic Dance
DESCRIPTION:Join us for fellowship and fun. This program is geared towards adults with special needs and will be held once a month as an after dinner/evening group. This month Jessica’s Dance Academy will be joining us for a class on movement\, dance and fun. Please make sure to pre-register by calling 910-326-2600 or come by the Swansboro Recreation Center\, 830 Main St. Ext. You can register online at swansboro.recdesk.com.
URL:https://www.ablebuddiesnc.org/upcoming/fellowship-night-therapeutic-dance/
LOCATION:Swansboro REC Center\, 830 Main St Ext.\, Swansboro\, North Carolina\, 28584
CATEGORIES:Community Events
ATTACH;FMTTYPE=image/jpeg:https://www.ablebuddiesnc.org/abnc/wp-content/uploads/Fellowship-Night.jpg
END:VEVENT
BEGIN:VEVENT
DTSTART;TZID=UTC:20180216T180000
DTEND;TZID=UTC:20180216T210000
DTSTAMP:20260424T001444
CREATED:20171218T004256Z
LAST-MODIFIED:20180206T083051Z
UID:373-1518804000-1518814800@www.ablebuddiesnc.org
SUMMARY:Special Needs Valentine's Dance
DESCRIPTION:  \n 
URL:https://www.ablebuddiesnc.org/upcoming/special-needs-valentines-dance/
LOCATION:Providence Baptist Church\, 406 E. Ocean Road\, Holly Ridge\, NC\, 28445\, United States
CATEGORIES:Community Events
ATTACH;FMTTYPE=image/jpeg:https://www.ablebuddiesnc.org/abnc/wp-content/uploads/I-Dance-Flyer-Feb-2018.jpg
END:VEVENT
BEGIN:VEVENT
DTSTART;TZID=UTC:20180211T090000
DTEND;TZID=UTC:20180211T170000
DTSTAMP:20260424T001444
CREATED:20180204T230439Z
LAST-MODIFIED:20180204T230439Z
UID:433-1518339600-1518368400@www.ablebuddiesnc.org
SUMMARY:Autism Friendly Day at Pine Knoll Shores Aquarium
DESCRIPTION:Join us for our first Autism Friendly Day! This will be a day of discovery designed for children and adults living with autism and their families. \nExplore the Aquarium using your senses. Activities will include nature walks (weather permitting)\, live animal programs\, a sensory exploration room\, quiet dive program\, calm space for families\, guest guide passports\, and local autism support organizations. \nSpace is limited for our nature walk and live animal programs. Families will be able to register for the nature walks and live animal programs on the day of this event. \nFor more information please call Susan Matthews at 252-247-4003 extension 271. \nThe event is free with Aquarium admission. General Aquarium admission is:\nAdults (Ages 13-61): $10.95\nSeniors (Ages 62 and older): $9.95\nMilitary: $9.95\nChildren (Ages 3-12): $8.95\nAges 2 and younger and NC Aquarium Society Members: FREE \n(Fun Fact: The 36-foot tall smoky mountain waterfall will be turned off during this special day!)
URL:https://www.ablebuddiesnc.org/upcoming/autism-friendly-day-at-pine-knoll-shores-aquarium/
LOCATION:NC Aquarium at Pine Knoll Shores\, 1 Roosevelt Blvd\, Pine Knoll Shores\, NC
CATEGORIES:Community Events
ATTACH;FMTTYPE=image/jpeg:https://www.ablebuddiesnc.org/abnc/wp-content/uploads/Pine-Knoll-Shores-Autism-Friendly-Day.jpg
END:VEVENT
BEGIN:VEVENT
DTSTART;TZID=UTC:20180209T180000
DTEND;TZID=UTC:20180209T210000
DTSTAMP:20260424T001444
CREATED:20180114T072315Z
LAST-MODIFIED:20180114T080228Z
UID:399-1518199200-1518210000@www.ablebuddiesnc.org
SUMMARY:Night To Shine
DESCRIPTION:6-9pm at Global River & Lifepoint Church\nWilmington\, NC\n5:00-5:45pm Registration and Pre-Prom at Global River Church.\n6:00-9:00pm Main Event Lifepoint
URL:https://www.ablebuddiesnc.org/upcoming/night-to-shine/
LOCATION:NC
CATEGORIES:Community Events
ATTACH;FMTTYPE=image/jpeg:https://www.ablebuddiesnc.org/abnc/wp-content/uploads/shine.jpg
END:VEVENT
BEGIN:VEVENT
DTSTART;TZID=UTC:20180120T100000
DTEND;TZID=UTC:20180120T120000
DTSTAMP:20260424T001444
CREATED:20180114T073015Z
LAST-MODIFIED:20180114T073015Z
UID:401-1516442400-1516449600@www.ablebuddiesnc.org
SUMMARY:Sensory Friendly Movie
DESCRIPTION:Our Jacksonville Carmike Cinemas (located behind the Jacksonville Mall) have teamed up with us to bring families affected by autism and other disabilities a special opportunity to enjoy the new movie release Paddington 2”\, in a safe and accepting environment. In order to provide a more accepting and comfortable setting for our unique audience\, the movie auditoriums will have their lights brought up and the sound turned down\, families will be able to bring in their own gluten-free\, casein-free snacks\, and no previews or advertisements will be shown before the movie. Concession stands will still be open for drinks and snacks. Additionally\, audience members are welcome to get up and dance\, walk\, shout or sing-in other words; Carmike’s “Silence is Golden” policy will not be enforced unless the safety of the audience is questioned. The fee is $5 per person. Tickets are sold the day of the event at the concession stand at Carmike.
URL:https://www.ablebuddiesnc.org/upcoming/sensory-friendly-movie/
LOCATION:NC
CATEGORIES:Community Events
ATTACH;FMTTYPE=image/jpeg:https://www.ablebuddiesnc.org/abnc/wp-content/uploads/movie.jpg
END:VEVENT
BEGIN:VEVENT
DTSTART;TZID=UTC:20180120T100000
DTEND;TZID=UTC:20180120T120000
DTSTAMP:20260424T001444
CREATED:20180109T070719Z
LAST-MODIFIED:20180109T070719Z
UID:395-1516442400-1516449600@www.ablebuddiesnc.org
SUMMARY:Special Needs Family Resource and Info Fair
DESCRIPTION:
URL:https://www.ablebuddiesnc.org/upcoming/special-needs-family-resource-and-info-fair/
LOCATION:NC
CATEGORIES:Community Events
ATTACH;FMTTYPE=image/jpeg:https://www.ablebuddiesnc.org/abnc/wp-content/uploads/resource-fair.jpg
END:VEVENT
BEGIN:VEVENT
DTSTART;TZID=America/Halifax:20180119T180000
DTEND;TZID=America/Halifax:20180119T210000
DTSTAMP:20260424T001444
CREATED:20171014T150711Z
LAST-MODIFIED:20171218T005456Z
UID:322-1516384800-1516395600@www.ablebuddiesnc.org
SUMMARY:Special Needs Dance-Movie Night
DESCRIPTION:
URL:https://www.ablebuddiesnc.org/upcoming/costume-dance-2018-01-19/
LOCATION:Holly Ridge Community Center\, 404 Sound Rd\, Holly Ridge 28445\, NC\, 28445\, United States
CATEGORIES:Community Events
ATTACH;FMTTYPE=image/jpeg:https://www.ablebuddiesnc.org/abnc/wp-content/uploads/I-Dance-Flyer-2018.jpg
END:VEVENT
BEGIN:VEVENT
DTSTART;TZID=UTC:20180112T183000
DTEND;TZID=UTC:20180112T210000
DTSTAMP:20260424T001444
CREATED:20180109T065010Z
LAST-MODIFIED:20180109T065010Z
UID:390-1515781800-1515790800@www.ablebuddiesnc.org
SUMMARY:Good Times Dance
DESCRIPTION:
URL:https://www.ablebuddiesnc.org/upcoming/good-times-dance/
LOCATION:First Christian Church-Fellowship Hall\, 900 Gum Branch Road\, Jacksonville\, NC\, United States
CATEGORIES:Community Events
ATTACH;FMTTYPE=image/jpeg:https://www.ablebuddiesnc.org/abnc/wp-content/uploads/Good-times.jpg
END:VEVENT
BEGIN:VEVENT
DTSTART;TZID=UTC:20180106T093000
DTEND;TZID=UTC:20180106T150000
DTSTAMP:20260424T001444
CREATED:20180104T213705Z
LAST-MODIFIED:20180104T213705Z
UID:387-1515231000-1515250800@www.ablebuddiesnc.org
SUMMARY:JASA Topsoccer Registration
DESCRIPTION:The first Registration for Jacksonville Area Soccer Association\, TOPSoccer Spring Season this weekend at Dick’s Sporting Goods. This registration is for NEW Spring athletes. You will need to bring a birth certificate. For more information contact Renee Wernimont rwernimont@yahoo.com
URL:https://www.ablebuddiesnc.org/upcoming/jasa-topsoccer-registration/
LOCATION:NC
CATEGORIES:Community Events
ATTACH;FMTTYPE=image/jpeg:https://www.ablebuddiesnc.org/abnc/wp-content/uploads/Jasa.jpg
END:VEVENT
BEGIN:VEVENT
DTSTART;TZID=America/Halifax:20171117T180000
DTEND;TZID=America/Halifax:20171117T210000
DTSTAMP:20260424T001444
CREATED:20171014T150711Z
LAST-MODIFIED:20171014T170900Z
UID:321-1510941600-1510952400@www.ablebuddiesnc.org
SUMMARY:Costume Dance
DESCRIPTION:
URL:https://www.ablebuddiesnc.org/upcoming/costume-dance-2017-11-17/
LOCATION:Holly Ridge Community Center\, 404 Sound Rd\, Holly Ridge 28445\, NC\, 28445\, United States
CATEGORIES:Community Events
ATTACH;FMTTYPE=image/jpeg:https://www.ablebuddiesnc.org/abnc/wp-content/uploads/I-Dance-Flyer-2.jpg
END:VEVENT
BEGIN:VEVENT
DTSTART;TZID=America/Halifax:20171020T180000
DTEND;TZID=America/Halifax:20171020T210000
DTSTAMP:20260424T001444
CREATED:20171014T150711Z
LAST-MODIFIED:20171014T181439Z
UID:288-1508522400-1508533200@www.ablebuddiesnc.org
SUMMARY:Costume Dance
DESCRIPTION:
URL:https://www.ablebuddiesnc.org/upcoming/costume-dance/
LOCATION:NC
CATEGORIES:Community Events
ATTACH;FMTTYPE=image/jpeg:https://www.ablebuddiesnc.org/abnc/wp-content/uploads/I-Dance-Flyer-2.jpg
END:VEVENT
END:VCALENDAR