BEGIN:VCALENDAR
VERSION:2.0
PRODID:-//Able Buddies NC - ECPv6.15.16.1//NONSGML v1.0//EN
CALSCALE:GREGORIAN
METHOD:PUBLISH
X-ORIGINAL-URL:https://www.ablebuddiesnc.org
X-WR-CALDESC:Events for Able Buddies NC
REFRESH-INTERVAL;VALUE=DURATION:PT1H
X-Robots-Tag:noindex
X-PUBLISHED-TTL:PT1H
BEGIN:VTIMEZONE
TZID:America/New_York
BEGIN:DAYLIGHT
TZOFFSETFROM:-0500
TZOFFSETTO:-0400
TZNAME:EDT
DTSTART:20170312T070000
END:DAYLIGHT
BEGIN:STANDARD
TZOFFSETFROM:-0400
TZOFFSETTO:-0500
TZNAME:EST
DTSTART:20171105T060000
END:STANDARD
BEGIN:DAYLIGHT
TZOFFSETFROM:-0500
TZOFFSETTO:-0400
TZNAME:EDT
DTSTART:20180311T070000
END:DAYLIGHT
BEGIN:STANDARD
TZOFFSETFROM:-0400
TZOFFSETTO:-0500
TZNAME:EST
DTSTART:20181104T060000
END:STANDARD
BEGIN:DAYLIGHT
TZOFFSETFROM:-0500
TZOFFSETTO:-0400
TZNAME:EDT
DTSTART:20190310T070000
END:DAYLIGHT
BEGIN:STANDARD
TZOFFSETFROM:-0400
TZOFFSETTO:-0500
TZNAME:EST
DTSTART:20191103T060000
END:STANDARD
BEGIN:DAYLIGHT
TZOFFSETFROM:-0500
TZOFFSETTO:-0400
TZNAME:EDT
DTSTART:20200308T070000
END:DAYLIGHT
BEGIN:STANDARD
TZOFFSETFROM:-0400
TZOFFSETTO:-0500
TZNAME:EST
DTSTART:20201101T060000
END:STANDARD
BEGIN:DAYLIGHT
TZOFFSETFROM:-0500
TZOFFSETTO:-0400
TZNAME:EDT
DTSTART:20210314T070000
END:DAYLIGHT
BEGIN:STANDARD
TZOFFSETFROM:-0400
TZOFFSETTO:-0500
TZNAME:EST
DTSTART:20211107T060000
END:STANDARD
BEGIN:DAYLIGHT
TZOFFSETFROM:-0500
TZOFFSETTO:-0400
TZNAME:EDT
DTSTART:20220313T070000
END:DAYLIGHT
BEGIN:STANDARD
TZOFFSETFROM:-0400
TZOFFSETTO:-0500
TZNAME:EST
DTSTART:20221106T060000
END:STANDARD
BEGIN:DAYLIGHT
TZOFFSETFROM:-0500
TZOFFSETTO:-0400
TZNAME:EDT
DTSTART:20230312T070000
END:DAYLIGHT
BEGIN:STANDARD
TZOFFSETFROM:-0400
TZOFFSETTO:-0500
TZNAME:EST
DTSTART:20231105T060000
END:STANDARD
END:VTIMEZONE
BEGIN:VTIMEZONE
TZID:UTC
BEGIN:STANDARD
TZOFFSETFROM:+0000
TZOFFSETTO:+0000
TZNAME:UTC
DTSTART:20170101T000000
END:STANDARD
END:VTIMEZONE
BEGIN:VEVENT
DTSTART;TZID=America/New_York:20220515T153000
DTEND;TZID=America/New_York:20220515T170000
DTSTAMP:20260423T190448
CREATED:20220206T224508Z
LAST-MODIFIED:20220206T231006Z
UID:875-1652628600-1652634000@www.ablebuddiesnc.org
SUMMARY:Aktion Club Meeting
DESCRIPTION:Aktion Club Meeting \n 
URL:https://www.ablebuddiesnc.org/upcoming/aktion-club-meeting-event-dates-2022-2022-05-15-2022-05-08/
LOCATION:Hampstead Library\, 75 Library Dr\, Hampstead\, NC\, United States
CATEGORIES:Community Events,Meetings,Sensory Friendly Events
ATTACH;FMTTYPE=image/jpeg:https://www.ablebuddiesnc.org/abnc/wp-content/uploads/Aktion-Club.jpg
END:VEVENT
BEGIN:VEVENT
DTSTART;VALUE=DATE:20220426
DTEND;VALUE=DATE:20220427
DTSTAMP:20260423T190448
CREATED:20220206T224508Z
LAST-MODIFIED:20220206T230537Z
UID:879-1650931200-1651017599@www.ablebuddiesnc.org
SUMMARY:Aktion Club Event ~ CHARLIE AND THE CHOCOLATE FACTORY
DESCRIPTION:Aktion Club Event: CHARLIE AND THE CHOCOLATE FACTORY \n 
URL:https://www.ablebuddiesnc.org/upcoming/aktion-club-meeting-event-dates-2022-2022-03-20-2022-04-26/
LOCATION:NC\, United States
CATEGORIES:Community Events,Meetings,Sensory Friendly Events
ATTACH;FMTTYPE=image/jpeg:https://www.ablebuddiesnc.org/abnc/wp-content/uploads/Aktion-Club.jpg
END:VEVENT
BEGIN:VEVENT
DTSTART;TZID=America/New_York:20220424T153000
DTEND;TZID=America/New_York:20220424T170000
DTSTAMP:20260423T190448
CREATED:20220206T224508Z
LAST-MODIFIED:20220206T231031Z
UID:874-1650814200-1650819600@www.ablebuddiesnc.org
SUMMARY:Aktion Club Meeting
DESCRIPTION:Aktion Club Meeting \n 
URL:https://www.ablebuddiesnc.org/upcoming/aktion-club-meeting-event-dates-2022-2022-05-15-2022-04-24/
LOCATION:Hampstead Library\, 75 Library Dr\, Hampstead\, NC\, United States
CATEGORIES:Community Events,Meetings,Sensory Friendly Events
ATTACH;FMTTYPE=image/jpeg:https://www.ablebuddiesnc.org/abnc/wp-content/uploads/Aktion-Club.jpg
END:VEVENT
BEGIN:VEVENT
DTSTART;TZID=America/New_York:20220410T153000
DTEND;TZID=America/New_York:20220410T170000
DTSTAMP:20260423T190448
CREATED:20220206T224508Z
LAST-MODIFIED:20220206T231053Z
UID:857-1649604600-1649610000@www.ablebuddiesnc.org
SUMMARY:Aktion Club Meeting
DESCRIPTION:Aktion Club Meeting \n 
URL:https://www.ablebuddiesnc.org/upcoming/aktion-club-meeting-event-dates-2022-2022-05-15/
LOCATION:Hampstead Library\, 75 Library Dr\, Hampstead\, NC\, United States
CATEGORIES:Community Events,Meetings,Sensory Friendly Events
ATTACH;FMTTYPE=image/jpeg:https://www.ablebuddiesnc.org/abnc/wp-content/uploads/Aktion-Club.jpg
END:VEVENT
BEGIN:VEVENT
DTSTART;VALUE=DATE:20220320
DTEND;VALUE=DATE:20220321
DTSTAMP:20260423T190448
CREATED:20220206T224508Z
LAST-MODIFIED:20220206T230420Z
UID:853-1647734400-1647820799@www.ablebuddiesnc.org
SUMMARY:Aktion Club Event ~ HAIRSPRAY
DESCRIPTION:Aktion Club Event: HAIRSPRAY \n 
URL:https://www.ablebuddiesnc.org/upcoming/aktion-club-meeting-event-dates-2022-2022-03-20/
LOCATION:NC\, United States
CATEGORIES:Community Events,Meetings,Sensory Friendly Events
ATTACH;FMTTYPE=image/jpeg:https://www.ablebuddiesnc.org/abnc/wp-content/uploads/Aktion-Club.jpg
END:VEVENT
BEGIN:VEVENT
DTSTART;VALUE=DATE:20220307
DTEND;VALUE=DATE:20220312
DTSTAMP:20260423T190448
CREATED:20220206T225343Z
LAST-MODIFIED:20220206T225343Z
UID:860-1646611200-1647043199@www.ablebuddiesnc.org
SUMMARY:Aktion Club Week
DESCRIPTION:
URL:https://www.ablebuddiesnc.org/upcoming/aktion-club-week/
LOCATION:NC\, United States
CATEGORIES:Community Events,Meetings,Sensory Friendly Events
ATTACH;FMTTYPE=image/jpeg:https://www.ablebuddiesnc.org/abnc/wp-content/uploads/Aktion-Club.jpg
END:VEVENT
BEGIN:VEVENT
DTSTART;TZID=America/New_York:20220306T153000
DTEND;TZID=America/New_York:20220306T170000
DTSTAMP:20260423T190448
CREATED:20220206T224508Z
LAST-MODIFIED:20220206T231125Z
UID:852-1646580600-1646586000@www.ablebuddiesnc.org
SUMMARY:Aktion Club Meeting
DESCRIPTION:Aktion Club Meeting \n 
URL:https://www.ablebuddiesnc.org/upcoming/aktion-club-meeting-event-dates-2022-2022-03-06/
LOCATION:Hampstead Library\, 75 Library Dr\, Hampstead\, NC\, United States
CATEGORIES:Community Events,Meetings,Sensory Friendly Events
ATTACH;FMTTYPE=image/jpeg:https://www.ablebuddiesnc.org/abnc/wp-content/uploads/Aktion-Club.jpg
END:VEVENT
BEGIN:VEVENT
DTSTART;TZID=America/New_York:20220220T153000
DTEND;TZID=America/New_York:20220220T170000
DTSTAMP:20260423T190448
CREATED:20220206T224508Z
LAST-MODIFIED:20220206T231147Z
UID:851-1645371000-1645376400@www.ablebuddiesnc.org
SUMMARY:Aktion Club Meeting
DESCRIPTION:Aktion Club Meeting \n 
URL:https://www.ablebuddiesnc.org/upcoming/aktion-club-meeting-event-dates-2022-2022-02-20/
LOCATION:Hampstead Library\, 75 Library Dr\, Hampstead\, NC\, United States
CATEGORIES:Community Events,Meetings,Sensory Friendly Events
ATTACH;FMTTYPE=image/jpeg:https://www.ablebuddiesnc.org/abnc/wp-content/uploads/Aktion-Club.jpg
END:VEVENT
BEGIN:VEVENT
DTSTART;TZID=America/New_York:20220206T153000
DTEND;TZID=America/New_York:20220206T170000
DTSTAMP:20260423T190448
CREATED:20220206T224508Z
LAST-MODIFIED:20220206T231217Z
UID:844-1644161400-1644166800@www.ablebuddiesnc.org
SUMMARY:Aktion Club Meeting
DESCRIPTION:Aktion Club Meeting \n 
URL:https://www.ablebuddiesnc.org/upcoming/aktion-club-meeting-event-dates-2022/
LOCATION:Hampstead Library\, 75 Library Dr\, Hampstead\, NC\, United States
CATEGORIES:Community Events,Meetings,Sensory Friendly Events
ATTACH;FMTTYPE=image/jpeg:https://www.ablebuddiesnc.org/abnc/wp-content/uploads/Aktion-Club.jpg
END:VEVENT
BEGIN:VEVENT
DTSTART;TZID=America/New_York:20190406T090000
DTEND;TZID=America/New_York:20190406T110000
DTSTAMP:20260423T190448
CREATED:20190130T022151Z
LAST-MODIFIED:20190130T022151Z
UID:674-1554541200-1554548400@www.ablebuddiesnc.org
SUMMARY:Sensory Saturday!
DESCRIPTION:The NC Maritime Museum at Southport now has Sensory Saturday! \nThis program is the first Saturday of every month. \nIt has dimmed lights\, no audio turned on and a special activity.
URL:https://www.ablebuddiesnc.org/upcoming/sensory-saturday-3/
LOCATION:NC Maritime Museum\, 204 E Moore St\, Southport\, NC\, 28461\, United States
CATEGORIES:Community Events,Sensory Friendly Events
ATTACH;FMTTYPE=image/jpeg:https://www.ablebuddiesnc.org/abnc/wp-content/uploads/Apr-2019-SS.jpg
END:VEVENT
BEGIN:VEVENT
DTSTART;TZID=America/New_York:20190404T113000
DTEND;TZID=America/New_York:20190404T180000
DTSTAMP:20260423T190448
CREATED:20190225T022244Z
LAST-MODIFIED:20190225T022244Z
UID:696-1554377400-1554400800@www.ablebuddiesnc.org
SUMMARY:Charity Golf Tournament to Benefit The Walk to End Alzheimer's
DESCRIPTION:Charity Golf Tournament to Benefit The Walk to End Alzheimer’s\nRegistration 11:30\nLunch provided by Logan’s 12:00\nTee-Time 1:00\nAll proceeds go to The Alzheimer’s Association \nFor more information go to: https://www.facebook.com/events/1976499052644310/
URL:https://www.ablebuddiesnc.org/upcoming/charity-golf-tournament-to-benefit-the-walk-to-end-alzheimers/
LOCATION:NC\, United States
CATEGORIES:Community Events
ATTACH;FMTTYPE=image/jpeg:https://www.ablebuddiesnc.org/abnc/wp-content/uploads/golf-tourny.jpg
END:VEVENT
BEGIN:VEVENT
DTSTART;TZID=America/New_York:20190302T120000
DTEND;TZID=America/New_York:20190303T160000
DTSTAMP:20260423T190448
CREATED:20190225T021504Z
LAST-MODIFIED:20190225T021504Z
UID:691-1551528000-1551628800@www.ablebuddiesnc.org
SUMMARY:Spring Fling
DESCRIPTION:Come out for a great family fun time. We will have vendors offering livestock\, livestock and pet related items\, homemade/handmade items and direct sales. There will be games\, food\, Face painting\, baby farm animals and so much more. Event and games are free. There will be lots of animals out for the kids to see/pet. For questions sign-ups updates or to become a vendor please follow this post\, comment below or message me. Hope to see everyone there and have a great time. \nClick here for more information: https://www.facebook.com/events/223497458582784/
URL:https://www.ablebuddiesnc.org/upcoming/spring-fling/
LOCATION:NC\, United States
CATEGORIES:Community Events
ATTACH;FMTTYPE=image/jpeg:https://www.ablebuddiesnc.org/abnc/wp-content/uploads/spring-fling.jpg
END:VEVENT
BEGIN:VEVENT
DTSTART;TZID=America/New_York:20190302T090000
DTEND;TZID=America/New_York:20190302T120000
DTSTAMP:20260423T190448
CREATED:20190225T020435Z
LAST-MODIFIED:20190225T021642Z
UID:687-1551517200-1551528000@www.ablebuddiesnc.org
SUMMARY:Ainsley's Angels 5th Annual Run With Your Heart 5k/10k/15k
DESCRIPTION:https://www.facebook.com/events/460139127842450/
URL:https://www.ablebuddiesnc.org/upcoming/ainsleys-angels-5th-annual-run-with-your-heart-5k-10k-15k/
LOCATION:NC\, United States
CATEGORIES:Community Events
ATTACH;FMTTYPE=image/jpeg:https://www.ablebuddiesnc.org/abnc/wp-content/uploads/ainsleys.jpg
END:VEVENT
BEGIN:VEVENT
DTSTART;TZID=America/New_York:20190302T090000
DTEND;TZID=America/New_York:20190302T110000
DTSTAMP:20260423T190448
CREATED:20190130T010818Z
LAST-MODIFIED:20190130T010818Z
UID:668-1551517200-1551524400@www.ablebuddiesnc.org
SUMMARY:Sensory Saturday!
DESCRIPTION:The NC Maritime Museum at Southport now has Sensory Saturday! \nThis program is the first Saturday of every month. \nIt has dimmed lights\, no audio turned on and a special activity.
URL:https://www.ablebuddiesnc.org/upcoming/sensory-saturday/
LOCATION:NC Maritime Museum\, 204 E Moore St\, Southport\, NC\, 28461\, United States
CATEGORIES:Community Events,Sensory Friendly Events
ATTACH;FMTTYPE=image/jpeg:https://www.ablebuddiesnc.org/abnc/wp-content/uploads/Sensory-Saturday.jpg
END:VEVENT
BEGIN:VEVENT
DTSTART;TZID=America/New_York:20190226T180000
DTEND;TZID=America/New_York:20190226T200000
DTSTAMP:20260423T190448
CREATED:20190226T020610Z
LAST-MODIFIED:20190226T020610Z
UID:700-1551204000-1551211200@www.ablebuddiesnc.org
SUMMARY:Sensory Friendly Jump Time
DESCRIPTION:We turn the music off and hide our whistles! The whole park is dedicated to our sensory sensitive guests! The last Tuesday of every month from 6PM-8PM. The cost is $12.95 per jumper and 1 free caretaker if needed. \n  \nFor more information go to: \nhttps://www.facebook.com/events/601485476992809/?event_time_id=601485483659475
URL:https://www.ablebuddiesnc.org/upcoming/sensory-friendly-jump-time/
LOCATION:NC\, United States
CATEGORIES:Community Events,Sensory Friendly Events
ATTACH;FMTTYPE=image/jpeg:https://www.ablebuddiesnc.org/abnc/wp-content/uploads/jump-time.jpg
END:VEVENT
BEGIN:VEVENT
DTSTART;TZID=America/New_York:20190210T090000
DTEND;TZID=America/New_York:20190210T170000
DTSTAMP:20260423T190448
CREATED:20190201T002850Z
LAST-MODIFIED:20190201T002850Z
UID:678-1549789200-1549818000@www.ablebuddiesnc.org
SUMMARY:NC Aquarium at Pine Knoll Shores-Autism Friendly Day!
DESCRIPTION:  \n\n\n\nJoin us for our second Autism Friendly Day! \nThis will be a day of discovery designed for children and adults living with autism and their families. \nExplore the Aquarium using your senses. Activities will include nature walks (weather permitting)\, live animal programs\, a sensory exploration room\, “quiet” dive program\, calm space for families\, guest guide passports\, and local autism support organizations. Space is limited for our nature walk and live animal programs. Families will be able to register for the nature walks and live animal programs on the day of this event. Free with Aquarium admission.  (Fun Fact: The 36-foot tall smoky mountain waterfall will be turned off during this special day!)
URL:https://www.ablebuddiesnc.org/upcoming/nc-aquarium-at-pine-knoll-shores-autism-friendly-day/
LOCATION:NC Aquarium at Pine Knoll Shores\, 1 Roosevelt Blvd\, Pine Knoll Shores\, NC
CATEGORIES:Community Events,Sensory Friendly Events
ATTACH;FMTTYPE=image/jpeg:https://www.ablebuddiesnc.org/abnc/wp-content/uploads/Pine-Knoll.jpg
END:VEVENT
BEGIN:VEVENT
DTSTART;TZID=America/New_York:20190202T090000
DTEND;TZID=America/New_York:20190202T110000
DTSTAMP:20260423T190448
CREATED:20190130T011315Z
LAST-MODIFIED:20190130T011315Z
UID:672-1549098000-1549105200@www.ablebuddiesnc.org
SUMMARY:Sensory Saturday!
DESCRIPTION:The NC Maritime Museum at Southport now has Sensory Saturday! \nThis program is the first Saturday of every month. \nIt has dimmed lights\, no audio turned on and a special activity.
URL:https://www.ablebuddiesnc.org/upcoming/sensory-saturday-2/
LOCATION:NC Maritime Museum\, 204 E Moore St\, Southport\, NC\, 28461\, United States
CATEGORIES:Community Events,Sensory Friendly Events
ATTACH;FMTTYPE=image/jpeg:https://www.ablebuddiesnc.org/abnc/wp-content/uploads/maritime-feb.jpg
END:VEVENT
BEGIN:VEVENT
DTSTART;TZID=America/New_York:20190112T083000
DTEND;TZID=America/New_York:20190112T130000
DTSTAMP:20260423T190449
CREATED:20181213T024411Z
LAST-MODIFIED:20181213T024411Z
UID:622-1547281800-1547298000@www.ablebuddiesnc.org
SUMMARY:Inclusion Institute
DESCRIPTION:
URL:https://www.ablebuddiesnc.org/upcoming/inclusion-institute/
LOCATION:Swansboro REC Center\, 830 Main St Extension\, Swansboro\,\, NC\, 28584\, United States
CATEGORIES:Community Events
ATTACH;FMTTYPE=image/jpeg:https://www.ablebuddiesnc.org/abnc/wp-content/uploads/Inclusion-Institute.jpg
END:VEVENT
BEGIN:VEVENT
DTSTART;TZID=America/New_York:20181221T180000
DTEND;TZID=America/New_York:20181221T210000
DTSTAMP:20260423T190449
CREATED:20181117T180738Z
LAST-MODIFIED:20181117T180738Z
UID:616-1545415200-1545426000@www.ablebuddiesnc.org
SUMMARY:Able Buddies NC Christmas Party!
DESCRIPTION:Please join us for a fun filled Christmas Party with Special Guest: SANTA CLAUS!!!! \nPlease be sure to let us know if you will be able to attend and email Aileen@Ablebuddiesnc.org the names of the participants so that we can make this a personalized event. \nSFI Group  is proudly sponsoring this event!
URL:https://www.ablebuddiesnc.org/upcoming/able-buddies-nc-christmas-party/
LOCATION:Providence Baptist Church\, 406 E. Ocean Road\, Holly Ridge\, NC\, 28445\, United States
CATEGORIES:Community Events
ATTACH;FMTTYPE=image/jpeg:https://www.ablebuddiesnc.org/abnc/wp-content/uploads/I-Dance-Flyer-December-2018.jpg
END:VEVENT
BEGIN:VEVENT
DTSTART;TZID=UTC:20181019T180000
DTEND;TZID=UTC:20181019T210000
DTSTAMP:20260423T190449
CREATED:20171218T005315Z
LAST-MODIFIED:20190130T003310Z
UID:379-1539972000-1539982800@www.ablebuddiesnc.org
SUMMARY:Able Buddies NC Special Needs Monthly Dance
DESCRIPTION:Please join us for our Special Needs Dance!
URL:https://www.ablebuddiesnc.org/upcoming/special-needs-monthly-dance-2018-07-20/
LOCATION:Providence Baptist Church\, 406 E. Ocean Road\, Holly Ridge\, NC\, 28445\, United States
CATEGORIES:Community Events
ATTACH;FMTTYPE=image/jpeg:https://www.ablebuddiesnc.org/abnc/wp-content/uploads/I-Dance-Flyer-blank.jpg
END:VEVENT
BEGIN:VEVENT
DTSTART;TZID=America/New_York:20181006T080000
DTEND;TZID=America/New_York:20181006T120000
DTSTAMP:20260423T190449
CREATED:20180814T010758Z
LAST-MODIFIED:20180814T010758Z
UID:568-1538812800-1538827200@www.ablebuddiesnc.org
SUMMARY:7th Annual Buddy Walk
DESCRIPTION:Come join us for our 2nd Annual Buddy Run and 7th Annual Buddy Walk at Jacksonville Commons.\nThe run is a 5K which will begin at 8am.\nThe Buddy Walk will follow with an opening ceremony at 9:45am with the Walk to promptly begin at 10am.\nStick around for lots of family fun to include food\, games\, crafts\, vendors\, raffle and silent auction items and don’t forget to stock up on the DSNOCC gear which will be available for purchase. We will have a special performance from Jessica’s Dance Academy members.\nRegistration includes a t-shirt\, ribbon/medal\, DSNOCC bag with goodies\, and a food voucher. \nEmail vicepresident@dsnocc.org for questions.
URL:https://www.ablebuddiesnc.org/upcoming/7th-annual-buddy-walk/
LOCATION:Jacksonville Commons\, 100 Recreation Lane\, Jacksonville\, NC\, 28546\, United States
CATEGORIES:Community Events
ATTACH;FMTTYPE=image/jpeg:https://www.ablebuddiesnc.org/abnc/wp-content/uploads/38470077_1794945897261554_2466082616915263488_n.jpg
END:VEVENT
BEGIN:VEVENT
DTSTART;TZID=America/New_York:20180922T100000
DTEND;TZID=America/New_York:20180922T120000
DTSTAMP:20260423T190449
CREATED:20180815T015752Z
LAST-MODIFIED:20180815T015752Z
UID:573-1537610400-1537617600@www.ablebuddiesnc.org
SUMMARY:Meet & Greet with Field of Dreams Therapeutic Riding Foundation
DESCRIPTION:Come join us as we spend some time with the staff and horses of the Field of Dreams Therapeutic Riding Foundation in Newport. We will tour their grounds and learn about the horses and how they are used for therapy. We will have light lunch. We will even have a chance to ride! Please RSVP to vicepresident@dsnocc.org or president@dsnocc.org. Space is limited.
URL:https://www.ablebuddiesnc.org/upcoming/meet-greet-with-field-of-dreams-therapeutic-riding-foundation-2/
LOCATION:Field of Dreams Therapeutic Riding Foundation\, 1060 Chatham St\, Newport\, NC\, 28570\, United States
CATEGORIES:Community Events
ATTACH;FMTTYPE=image/jpeg:https://www.ablebuddiesnc.org/abnc/wp-content/uploads/Field-of-Deams.jpg
END:VEVENT
BEGIN:VEVENT
DTSTART;TZID=America/New_York:20180818T143000
DTEND;TZID=America/New_York:20180818T153000
DTSTAMP:20260423T190449
CREATED:20180814T005941Z
LAST-MODIFIED:20180814T005941Z
UID:560-1534602600-1534606200@www.ablebuddiesnc.org
SUMMARY:Music Therapy
DESCRIPTION:
URL:https://www.ablebuddiesnc.org/upcoming/music-therapy/
LOCATION:Swansboro REC Center\, 830 Main St Extension\, Swansboro\,\, NC\, 28584\, United States
CATEGORIES:Community Events
ATTACH;FMTTYPE=image/jpeg:https://www.ablebuddiesnc.org/abnc/wp-content/uploads/37412323_1766850800071064_4222928428019482624_n.jpg
END:VEVENT
BEGIN:VEVENT
DTSTART;TZID=UTC:20180817T180000
DTEND;TZID=UTC:20180817T210000
DTSTAMP:20260423T190449
CREATED:20171218T005315Z
LAST-MODIFIED:20180810T233058Z
UID:380-1534528800-1534539600@www.ablebuddiesnc.org
SUMMARY:Special Needs Monthly Dance
DESCRIPTION:Please join us on the 3rd Friday of each month for a FREE special needs dance.  Our themes change each month\, so be sure to check back for updates!
URL:https://www.ablebuddiesnc.org/upcoming/special-needs-monthly-dance-2018-08-17/
LOCATION:NC\, United States
CATEGORIES:Community Events
ATTACH;FMTTYPE=image/jpeg:https://www.ablebuddiesnc.org/abnc/wp-content/uploads/I-Dance-Flyer-basic.jpg
END:VEVENT
BEGIN:VEVENT
DTSTART;TZID=UTC:20180720T100000
DTEND;TZID=UTC:20180720T130000
DTSTAMP:20260423T190449
CREATED:20180430T004850Z
LAST-MODIFIED:20180430T004850Z
UID:494-1532080800-1532091600@www.ablebuddiesnc.org
SUMMARY:Fort Fisher Aquarium Special Needs Meet Up
DESCRIPTION:This is a FREE event. Transportation will NOT be provided.\nThe group will meet outside the NC Aquarium at Fort Fisher front door at 10am. You must RSVP by July 10th\, as we have to make reservations to be able to attend for free. \nCommunitas is an area nonprofit community for children and adults with intellectual disabilities and other special needs. \nAs this venue works with us to provide accessible seating and accommodations for our consumers\, this event is an opportunity for our friends with special needs\, their immediate family members and caregivers ONLY\, please. \nThank you for your interest and support!
URL:https://www.ablebuddiesnc.org/upcoming/fort-fisher-aquarium-special-needs-meet-up/
LOCATION:NC Aquarium at Fort Fisher\, 900 Loggerhead Rd\, Kure Beach\, NC\, 28449
CATEGORIES:Community Events
ATTACH;FMTTYPE=image/jpeg:https://www.ablebuddiesnc.org/abnc/wp-content/uploads/Fort-Fisher.jpg
END:VEVENT
BEGIN:VEVENT
DTSTART;TZID=America/New_York:20180713T183000
DTEND;TZID=America/New_York:20180713T210000
DTSTAMP:20260423T190449
CREATED:20180701T181025Z
LAST-MODIFIED:20210409T233507Z
UID:520-1531506600-1531515600@www.ablebuddiesnc.org
SUMMARY:Good Times Dance
DESCRIPTION:
URL:https://www.ablebuddiesnc.org/upcoming/good-times-dance-2/
LOCATION:First Christian Church-Fellowship Hall\, 900 Gum Branch Road\, Jacksonville\, NC\, United States
CATEGORIES:Community Events
ATTACH;FMTTYPE=image/jpeg:https://www.ablebuddiesnc.org/abnc/wp-content/uploads/Good-times-2.jpg
END:VEVENT
BEGIN:VEVENT
DTSTART;TZID=UTC:20180615T180000
DTEND;TZID=UTC:20180615T210000
DTSTAMP:20260423T190449
CREATED:20171218T005315Z
LAST-MODIFIED:20180603T231419Z
UID:378-1529085600-1529096400@www.ablebuddiesnc.org
SUMMARY:Special Needs Monthly Dance - LUAU
DESCRIPTION:Get out your sarongs and flip-flops\, and join us for our June 15th LUAU!  Our special guests will be Na’Pualai of Durham!!  You don’t want to miss this one!
URL:https://www.ablebuddiesnc.org/upcoming/special-needs-monthly-dance-2018-06-15/
LOCATION:Providence Baptist Church\, 406 E. Ocean Road\, Holly Ridge\, NC\, 28445\, United States
CATEGORIES:Community Events
ATTACH;FMTTYPE=image/jpeg:https://www.ablebuddiesnc.org/abnc/wp-content/uploads/I-Dance-Flyer-June-2018.jpg
END:VEVENT
BEGIN:VEVENT
DTSTART;TZID=UTC:20180609T100000
DTEND;TZID=UTC:20180609T120000
DTSTAMP:20260423T190449
CREATED:20180430T015401Z
LAST-MODIFIED:20180430T015401Z
UID:499-1528538400-1528545600@www.ablebuddiesnc.org
SUMMARY:Meet & Greet with Field of Dreams Therapeutic Riding Foundation
DESCRIPTION:Come join us as we spend some time with the staff and horses of the Field of Dreams Therapeutic Riding Foundation in Newport. We will tour their grounds and learn about the horses and how they are used for therapy. We will have light lunch. We will even have a chance to ride! Please RSVP to treasurer@dsnocc.org or president@dsnocc.org. Space is limited.
URL:https://www.ablebuddiesnc.org/upcoming/meet-greet-with-field-of-dreams-therapeutic-riding-foundation/
LOCATION:NC
CATEGORIES:Community Events
ATTACH;FMTTYPE=image/jpeg:https://www.ablebuddiesnc.org/abnc/wp-content/uploads/Field-of-Deams.jpg
END:VEVENT
BEGIN:VEVENT
DTSTART;TZID=UTC:20180519T110000
DTEND;TZID=UTC:20180519T150000
DTSTAMP:20260423T190449
CREATED:20180430T002058Z
LAST-MODIFIED:20180430T002058Z
UID:484-1526727600-1526742000@www.ablebuddiesnc.org
SUMMARY:Differently Abled Fun Fair
DESCRIPTION:Why fit in when you were born to stand out? Every year\, our church receives one of the highest honors on earth…to show the love of Christ to individuals with profound physical or mental disabilities. On May 19\, we will host our Differently Abled Fun Fair at the Greenville Convention Center. We’re inviting all of our old and new differently abled friends (along with their families) to join us this year. It’s going to be out of this world!
URL:https://www.ablebuddiesnc.org/upcoming/differently-abled-fun-fair/
LOCATION:Greenville Convention Center\, 303 SW Greenville Blvd\,\, Greenville\, NC\, 27834
CATEGORIES:Community Events
ATTACH;FMTTYPE=image/jpeg:https://www.ablebuddiesnc.org/abnc/wp-content/uploads/Differently-Abled-Fun-Fair.jpg
END:VEVENT
BEGIN:VEVENT
DTSTART;TZID=UTC:20180519T090000
DTEND;TZID=UTC:20180519T120000
DTSTAMP:20260423T190449
CREATED:20180430T001138Z
LAST-MODIFIED:20180430T001211Z
UID:479-1526720400-1526731200@www.ablebuddiesnc.org
SUMMARY:A Day on the Oleander Express
DESCRIPTION:The Ability Garden is inviting families and friends to the Arboretum for a fun-filled day of adventure with interactive and educational stops around the gardens! Children can get passports stamped as they ride on the Shriners train between stations with different activities. Last year’s event attracted more than 200 children and parents. This is a community-based event with participation from many volunteers and area non-profits.
URL:https://www.ablebuddiesnc.org/upcoming/479/
LOCATION:New Hanover County Arboretum\, 6206 Oleander Drive\, Wilmington\, NC\, 28403
CATEGORIES:Community Events
ATTACH;FMTTYPE=image/jpeg:https://www.ablebuddiesnc.org/abnc/wp-content/uploads/oleander-express.jpg
END:VEVENT
END:VCALENDAR